BEGIN:VCALENDAR
VERSION:2.0
PRODID:-//eventon.com NONSGML v1.0//EN
CALSCALE:GREGORIAN
METHOD:PUBLISH
BEGIN:VEVENT
UID:69ed87c35318e
DTSTAMP:20260426T033427Z
DTSTART:20250322T020000Z
DTEND:20250322T060000Z
LOCATION:Cariboo Memorial Complex
SUMMARY:Snak The Ripper
DESCRIPTION:Snak The Ripper\nhttps://tourismwilliamslake.com/events/snak-th
 e-ripper/
URL:https://tourismwilliamslake.com/events/snak-the-ripper/
END:VEVENT
END:VCALENDAR